BEGIN:VCALENDAR
VERSION:2.0
PRODID:-//The Catholic Union of Great Britain - ECPv6.15.20//NONSGML v1.0//EN
CALSCALE:GREGORIAN
METHOD:PUBLISH
X-WR-CALNAME:The Catholic Union of Great Britain
X-ORIGINAL-URL:https://catholicunion.org.uk
X-WR-CALDESC:Events for The Catholic Union of Great Britain
REFRESH-INTERVAL;VALUE=DURATION:PT1H
X-Robots-Tag:noindex
X-PUBLISHED-TTL:PT1H
BEGIN:VTIMEZONE
TZID:Europe/London
BEGIN:DAYLIGHT
TZOFFSETFROM:+0000
TZOFFSETTO:+0100
TZNAME:BST
DTSTART:20250330T010000
END:DAYLIGHT
BEGIN:STANDARD
TZOFFSETFROM:+0100
TZOFFSETTO:+0000
TZNAME:GMT
DTSTART:20251026T010000
END:STANDARD
BEGIN:DAYLIGHT
TZOFFSETFROM:+0000
TZOFFSETTO:+0100
TZNAME:BST
DTSTART:20260329T010000
END:DAYLIGHT
BEGIN:STANDARD
TZOFFSETFROM:+0100
TZOFFSETTO:+0000
TZNAME:GMT
DTSTART:20261025T010000
END:STANDARD
BEGIN:DAYLIGHT
TZOFFSETFROM:+0000
TZOFFSETTO:+0100
TZNAME:BST
DTSTART:20270328T010000
END:DAYLIGHT
BEGIN:STANDARD
TZOFFSETFROM:+0100
TZOFFSETTO:+0000
TZNAME:GMT
DTSTART:20271031T010000
END:STANDARD
END:VTIMEZONE
BEGIN:VEVENT
DTSTART;TZID=Europe/London:20260309T180000
DTEND;TZID=Europe/London:20260309T193000
DTSTAMP:20260421T141759
CREATED:20251030T171905Z
LAST-MODIFIED:20260225T154430Z
UID:16585-1773079200-1773084600@catholicunion.org.uk
SUMMARY:A Talent for Giving
DESCRIPTION:Join author\, philanthropist and thought leader John Studzinski in conversation with Catherine Pepinster at 6.00pm on Monday 9 March in Victoria. Booking is essential. \nOur thanks to the Charlotte Marshall Charitable Trust for sponsoring our series of Pub Talks this year.
URL:https://catholicunion.org.uk/eventslist/a-talent-for-giving/
LOCATION:Brass Monkey\, 250 Vauxhall Bridge Road\, London\, SW1V 1AU\, United Kingdom
CATEGORIES:Pub Talks
ORGANIZER;CN="The Catholic Union":MAILTO:info@catholicunion.org.uk
END:VEVENT
BEGIN:VEVENT
DTSTART;TZID=Europe/London:20260316T180000
DTEND;TZID=Europe/London:20260316T193000
DTSTAMP:20260421T141759
CREATED:20251202T112507Z
LAST-MODIFIED:20251202T112711Z
UID:16897-1773684000-1773689400@catholicunion.org.uk
SUMMARY:Does Science Pose a Threat to Today’s Catholicism?
DESCRIPTION:Join a Catholic Union webinar on Monday 16 March at 6.00pm to explore whether science poses a threat to today’s Catholicism. Chaired by Catherine Pepinster\, well known journalist\, attendees will hear from Revd Dr Gareth Leyshon\, Astrophysicist\, Catholic Priest of the Archdiocese of Cardiff-Menevia and parish priest of the four churches comprising Our Lady of the Valleys. \nThose wishing to register for the webinar on Monday 16 March at 6.00pm please email info@catholicunion.org.uk and a zoom link will be provided.  Booking is essential.
URL:https://catholicunion.org.uk/eventslist/does-science-pose-a-threat-to-todays-catholicism/
LOCATION:Online event
CATEGORIES:Webinars
ATTACH;FMTTYPE=image/jpeg:https://catholicunion.org.uk/wp-content/uploads/2025/12/Dr-Gareth-Leyshon.jpg
ORGANIZER;CN="The Catholic Union":MAILTO:info@catholicunion.org.uk
END:VEVENT
BEGIN:VEVENT
DTSTART;TZID=Europe/London:20260318T080000
DTEND;TZID=Europe/London:20260318T170000
DTSTAMP:20260421T141759
CREATED:20260318T125912Z
LAST-MODIFIED:20260318T130055Z
UID:17397-1773820800-1773853200@catholicunion.org.uk
SUMMARY:President's Lunch - April 2026
DESCRIPTION:Patrons and benefactors to be invited to a lunch with the President of the Catholic Union.
URL:https://catholicunion.org.uk/eventslist/presidents-lunch-april-2026/
END:VEVENT
BEGIN:VEVENT
DTSTART;TZID=Europe/London:20260318T183000
DTEND;TZID=Europe/London:20260318T200000
DTSTAMP:20260421T141759
CREATED:20260318T131756Z
LAST-MODIFIED:20260318T131756Z
UID:17414-1773858600-1773864000@catholicunion.org.uk
SUMMARY:Pub talk - tbc
DESCRIPTION:Pub talk – tbc
URL:https://catholicunion.org.uk/eventslist/pub-talk-tbc-3/
LOCATION:Brass Monkey\, 250 Vauxhall Bridge Road\, London\, SW1V 1AU\, United Kingdom
CATEGORIES:Pub Talks
ORGANIZER;CN="The Catholic Union":MAILTO:info@catholicunion.org.uk
END:VEVENT
BEGIN:VEVENT
DTSTART;TZID=Europe/London:20260420T180000
DTEND;TZID=Europe/London:20260420T180000
DTSTAMP:20260421T141759
CREATED:20251110T164757Z
LAST-MODIFIED:20251110T164857Z
UID:16747-1776708000-1776708000@catholicunion.org.uk
SUMMARY:The Place of Beauty - Catholic Union Webinar
DESCRIPTION:The Catholic Union is delighted to announce that it will be holding a webinar on Monday 20 April at 6.00pm to explore the place of beauty\, amongst the other transcendentals\, in the moral formation of the person and of society.  Chaired by Catherine Pepinster\, well known journalist\, attendees will hear from Father Patrick van der Vorst and Stefan Kaminski. \nThose wishing to register for the webinar on Monday 20 April at 6.00pm please email info@catholicunion.org.uk and a zoom link will be provided.  Booking is essential.
URL:https://catholicunion.org.uk/eventslist/the-place-of-beauty-catholic-union-webinar/
LOCATION:Online event
CATEGORIES:Webinars
ORGANIZER;CN="The Catholic Union":MAILTO:info@catholicunion.org.uk
END:VEVENT
BEGIN:VEVENT
DTSTART;TZID=Europe/London:20260511T183000
DTEND;TZID=Europe/London:20260511T200000
DTSTAMP:20260421T141759
CREATED:20260330T152142Z
LAST-MODIFIED:20260330T152142Z
UID:17464-1778524200-1778529600@catholicunion.org.uk
SUMMARY:Catholic Union Pub Talk: Who is Pope Leo?
DESCRIPTION:Christopher Lamb\, CNN Vatican Correspondent\, former Vatican Correspondent for the Tablet and author of a new book\, American Hope: What Pope Leo XIV means for the Church and the World\, will deliver the Catholic Union’s next pub talk on Monday 11 May.  Chaired by Catherine Pepinster\, journalist\, the event will be open to all but booking is essential. \nChristopher Lamb is CNN’s Vatican Correspondent. He covered the funeral of Pope Francis and the conclave that elected Pope Leo XIV and has been a journalist for two decades.  His first book\, The Outsider\, lifted a lid on the resistance Pope Francis faced in his battle to reform the Catholic Church. \nPlease book your place at the pub talk on Monday 11 May at 6.30 pm at the Brass Monkey\, Victoria. There will be an opportunity to buy a copy of Chris’ book at the event.
URL:https://catholicunion.org.uk/eventslist/catholic-union-pub-talk-who-is-pope-leo/
LOCATION:Brass Monkey\, 250 Vauxhall Bridge Road\, London\, SW1V 1AU\, United Kingdom
CATEGORIES:Pub Talks
ORGANIZER;CN="The Catholic Union":MAILTO:info@catholicunion.org.uk
END:VEVENT
BEGIN:VEVENT
DTSTART;TZID=Europe/London:20260622T180000
DTEND;TZID=Europe/London:20260622T200000
DTSTAMP:20260421T141759
CREATED:20260318T130632Z
LAST-MODIFIED:20260318T130632Z
UID:17403-1782151200-1782158400@catholicunion.org.uk
SUMMARY:TMC Mass & Reception
DESCRIPTION:Annual Mass & Reception for the St Thomas More Circle. Invitation only.
URL:https://catholicunion.org.uk/eventslist/tmc-mass-reception/
END:VEVENT
BEGIN:VEVENT
DTSTART;TZID=Europe/London:20260711T100000
DTEND;TZID=Europe/London:20260711T170000
DTSTAMP:20260421T141759
CREATED:20260318T131016Z
LAST-MODIFIED:20260420T144012Z
UID:17405-1783764000-1783789200@catholicunion.org.uk
SUMMARY:Catholic Union's Summer Gathering
DESCRIPTION:Members of the Catholic Union are invited to the Catholic Union’s annual Summer Gathering at Buckfast Abbey on Saturday 11 July. \nThe day will include an introduction given by Rt Rev Nicholas Hudson\, Bishop of Plymouth and Ecclesiastical Adviser to the Catholic Union\, and Mass in the Abbey. We are also very fortunate to have the opportunity of a talk by Abbot David Charlesworth OSB and we will hear from a Catholic member of the House of Lords. \nThe Summer Gathering is an opportunity for members and their guests to come together in convivial surroundings at a place of special interest and devotion.  The day will close at 4.00pm when we will be able to enjoy the ever popular Fauré Requiem in the Abbey sung by the Choristers. \nOnce again\, we have managed to keep the price low at £30 per person and are immensely grateful for the generous sponsorship by one of our Benefactors. This includes lunch and refreshments.  St Thomas More Circle Associates\, Supporters\, Benefactors and Patrons are entitled to one complimentary ticket\, but are still required to register. For more information about how to join the St Thomas More Circle\, please click here. \nPayment of £30 should be made by bank transfer to the Catholic Union\, HSBC\, Account No: 40217492\, Sort: 40 05 20\, Reference: SG26/surname \nPlease could you supply the following details to the Catholic Union Team info@catholicunion.org.uk \n\nFull name\nNumber of tickets\nDietary requirements\nPlease indicate if you are a Thomas More Circle Donor (Associates\, Supporters\, Benefactors and Patrons are entitled to one complimentary ticket).\n\nClick here to read about Buckfast Abbey\, including directions; Buckfast is situated on the Southern edge of Dartmoor\, the nearest station is Totnes. For those wishing to stay the night\, Northgate House Hotel is on site and conference rates can be applied\, but please note that availability is limited. Further accommodation can be found here. Depending on numbers\, we may all gather for dinner on Saturday evening (before the World Cup quarter final match later on!) \nFor any queries please contact info@catholicunion.org.uk or telephone 020 87491321. \nWe hope that you can join us for what will be a very special day. \n 
URL:https://catholicunion.org.uk/eventslist/catholic-unions-summer-gathering/
LOCATION:Buckfast Abbey\, Buckfastleigh\, Totnes\, Devon\, TQ11 0EE\, United Kingdom
CATEGORIES:Members
ATTACH;FMTTYPE=image/jpeg:https://catholicunion.org.uk/wp-content/uploads/2026/04/Buckfast.jpg
END:VEVENT
BEGIN:VEVENT
DTSTART;TZID=Europe/London:20261005T183000
DTEND;TZID=Europe/London:20261005T200000
DTSTAMP:20260421T141759
CREATED:20260318T131244Z
LAST-MODIFIED:20260318T131244Z
UID:17408-1791225000-1791230400@catholicunion.org.uk
SUMMARY:Pub Talk tbc
DESCRIPTION:Pub talk – tbc
URL:https://catholicunion.org.uk/eventslist/pub-talk-tbc-2/
LOCATION:Brass Monkey\, 250 Vauxhall Bridge Road\, London\, SW1V 1AU\, United Kingdom
CATEGORIES:Pub Talks
END:VEVENT
BEGIN:VEVENT
DTSTART;TZID=Europe/London:20261015T180000
DTEND;TZID=Europe/London:20261015T193000
DTSTAMP:20260421T141759
CREATED:20260421T113021Z
LAST-MODIFIED:20260421T113057Z
UID:17542-1792087200-1792092600@catholicunion.org.uk
SUMMARY:The Desert and the Polis: Loneliness as Spiritual Crisis and Political Failure
DESCRIPTION:The Catholic Union is holding a webinar on 15 October for young Catholics focusing on loneliness as spiritual crisis and political failure. \nThe panel will include Professor Anna Rowlands\, holder of the St Hilda Chair in Catholic Social Thought and Practice\, a political theologian who works at the interface of political and social theory and Christian theology and Father John Church OP\, the Promotor of Dominican Young Adults.  The event will be chaired by Dr Karen Singarayer\, Vice Chair of the Catholic Union and moderated by Tong Wu\, an active young member of the Catholic Union. \nThe webinar will take place at 6.00pm on Thursday 15 October on zoom. Those wishing to register should email info@catholicunion.org.uk to reserve their place.
URL:https://catholicunion.org.uk/eventslist/the-desert-and-the-polis-loneliness-as-spiritual-crisis-and-political-failure-2/
LOCATION:Online event
ATTACH;FMTTYPE=image/jpeg:https://catholicunion.org.uk/wp-content/uploads/2026/04/Prof-Anna-Fr-John.jpeg
ORGANIZER;CN="The Catholic Union":MAILTO:info@catholicunion.org.uk
END:VEVENT
BEGIN:VEVENT
DTSTART;TZID=Europe/London:20261103T170000
DTEND;TZID=Europe/London:20261103T200000
DTSTAMP:20260421T141759
CREATED:20260318T131420Z
LAST-MODIFIED:20260318T131420Z
UID:17410-1793725200-1793736000@catholicunion.org.uk
SUMMARY:AGM
DESCRIPTION:AGM at London Jesuit Centre.
URL:https://catholicunion.org.uk/eventslist/agm/
LOCATION:Aula Magna\, London Jesuit Centre\, London\, United Kingdom
CATEGORIES:Members
END:VEVENT
END:VCALENDAR